BEGIN:VCALENDAR
VERSION:2.0
PRODID:-//Pyöräilyseura Velo Saimaa - ECPv6.15.20//NONSGML v1.0//EN
CALSCALE:GREGORIAN
METHOD:PUBLISH
X-ORIGINAL-URL:https://velosaimaa.fi
X-WR-CALDESC:Tapahtumat Pyöräilyseura Velo Saimaa
REFRESH-INTERVAL;VALUE=DURATION:PT1H
X-Robots-Tag:noindex
X-PUBLISHED-TTL:PT1H
BEGIN:VTIMEZONE
TZID:UTC
BEGIN:STANDARD
TZOFFSETFROM:+0000
TZOFFSETTO:+0000
TZNAME:UTC
DTSTART:20160101T000000
END:STANDARD
END:VTIMEZONE
BEGIN:VTIMEZONE
TZID:Europe/Helsinki
BEGIN:DAYLIGHT
TZOFFSETFROM:+0200
TZOFFSETTO:+0300
TZNAME:EEST
DTSTART:20160327T010000
END:DAYLIGHT
BEGIN:STANDARD
TZOFFSETFROM:+0300
TZOFFSETTO:+0200
TZNAME:EET
DTSTART:20161030T010000
END:STANDARD
BEGIN:DAYLIGHT
TZOFFSETFROM:+0200
TZOFFSETTO:+0300
TZNAME:EEST
DTSTART:20170326T010000
END:DAYLIGHT
BEGIN:STANDARD
TZOFFSETFROM:+0300
TZOFFSETTO:+0200
TZNAME:EET
DTSTART:20171029T010000
END:STANDARD
BEGIN:DAYLIGHT
TZOFFSETFROM:+0200
TZOFFSETTO:+0300
TZNAME:EEST
DTSTART:20180325T010000
END:DAYLIGHT
BEGIN:STANDARD
TZOFFSETFROM:+0300
TZOFFSETTO:+0200
TZNAME:EET
DTSTART:20181028T010000
END:STANDARD
END:VTIMEZONE
BEGIN:VEVENT
DTSTART;VALUE=DATE:20180804
DTEND;VALUE=DATE:20180805
DTSTAMP:20260422T132823
CREATED:20180726T115405Z
LAST-MODIFIED:20180726T115405Z
UID:2079-1533340800-1533427199@velosaimaa.fi
SUMMARY:Pyöräilyä Puumalan saaristoreitillä
DESCRIPTION:Lähde mukaan pyöräilemään Puumalan saaristoreitille la 4.8.2018 \nVelo Saimaa järjestää lauantaina 4.8. retken Puumalan viime kesänä avautuneelle upealle saaristoreitille! Puumalan saaristoreitti on kesällä 2017 avattu upea maisemareitti polku- ja moottoripyöräilijöille. Reitti sai heti suuren suosion – kulkeehan 60 kilometrin pituinen pyöräilyreitti Saimaan kauneimmissa maisemissa\, läpi saarien\, siltojen ja harjujaksojen. Hurissalon ja Lintusalon saarien välillä matkaa tehdään Norppa II -pyörälautalla. Halutessasi voit ajaa paikalle Mikkelistä pyörällä\, jolloin kilometrejä kertyy 140-150 km. \nLautta kuljettaa korkeintaan 20 pyöräilijää per suunta ja lauttamatka on varattava ennakkoon. Hinta 10 € / pyöräilijä. Velo Saimaa varaa paikat lautalle ilmoittautumisten perusteella keskiviikkona 1.8.\, joten ilmoittaudu mukaan siihen mennessä osoitteessa https://goo.gl/forms/JqZZaQN1gpNm6l6w1. Tarkemmat tiedot ilmoittautuneille sähköpostilla. \n[button url=”https://goo.gl/forms/JqZZaQN1gpNm6l6w1″ target=”_blank” style=”normal”]Ilmoittaudu tästä[/button]
URL:https://velosaimaa.fi/tapahtumat-ja-kilpailut/pyorailya-puumalan-saaristoreitilla/
END:VEVENT
BEGIN:VEVENT
DTSTART;TZID=UTC:20180626T140000
DTEND;TZID=UTC:20180626T170000
DTSTAMP:20260422T132823
CREATED:20180615T102456Z
LAST-MODIFIED:20180615T102456Z
UID:2017-1530021600-1530032400@velosaimaa.fi
SUMMARY:Hulivilikarnevaalit: koeajopäivä Urskissa
DESCRIPTION:Velo Saimaa on mukana Hulivilikarnevaalien fillareiden koeajotapahtumassa tiistaina 26.6. klo 14-17. Tapahtuma järjestetään Urskin kentällä ja sinne on vapaa pääsy. Paikalla on Velo Saimaan uudet lainapyörät junnuille: yksi 12″ potkupyörä ja kaksi 20″ junnumaastopyörää. \nTervetuloa paikalle tutustumaan seuran toimintaan!
URL:https://velosaimaa.fi/tapahtumat-ja-kilpailut/hulivilikarnevaalit-koeajopaiva-urskissa/
END:VEVENT
BEGIN:VEVENT
DTSTART;VALUE=DATE:20180606
DTEND;VALUE=DATE:20180607
DTSTAMP:20260422T132823
CREATED:20180226T050330Z
LAST-MODIFIED:20180530T132359Z
UID:1879-1528243200-1528329599@velosaimaa.fi
SUMMARY:Mikkelin MTB-cup 1/3: Karkialampi
DESCRIPTION:Mikkelin alueellinen maastopyöräcup ajetaan vuonna 2018 kolmen osakilpailun mittaisena. Ensimmäinen osakilpailu ajetaan ke 6.6. iltakilpailuna\, toinen ke 8.8. iltakilpailuna ja kolmas syyskuun alussa. \nLisätiedot cupista ja ilmoittautuminen: http://velosaimaa.fi/mikkelin-maastopyoracup/
URL:https://velosaimaa.fi/tapahtumat-ja-kilpailut/mikkelin-mtb-cup-1-3/
END:VEVENT
BEGIN:VEVENT
DTSTART;TZID=UTC:20180525T170000
DTEND;TZID=UTC:20180525T200000
DTSTAMP:20260422T132823
CREATED:20180521T042134Z
LAST-MODIFIED:20180521T042134Z
UID:1988-1527267600-1527278400@velosaimaa.fi
SUMMARY:Velo Saimaa kesäkatu-tapahtumassa
DESCRIPTION:Tule tapaamaan meitä ja tutustumaan erilaisiin pyöriin Mikkelin kesäkatu-tapahtumassa torilla perjantaina 25.5.2018 klo 17-20!
URL:https://velosaimaa.fi/tapahtumat-ja-kilpailut/velo-saimaa-kesakatu-tapahtumassa/
END:VEVENT
BEGIN:VEVENT
DTSTART;TZID=UTC:20180524T180000
DTEND;TZID=UTC:20180524T200000
DTSTAMP:20260422T132823
CREATED:20180514T105808Z
LAST-MODIFIED:20180521T063059Z
UID:1977-1527184800-1527192000@velosaimaa.fi
SUMMARY:Uusien maastopyöräilijöiden tutustumislenkki
DESCRIPTION:[message type=”notice”]HUOM: Aloittelijoiden viikon alkuperäinen kurssiohjelma on jouduttu perumaan ohjaajien puutteen takia. Olet tervetullut tutustumaan Velo Saimaan torstailenkillä seuran toimintaan klo 18 osoitteessa Raviradantie 1. Viikkolenkin yhteydessä muodostetaan erityinen uusien harrastajien ryhmä\, jonka kanssa käydään läpi maastopyöräilyharrastukseen liittyviä asioita\, ajetaan rennoissa merkeissä lähimaastoissa ja harjoitellaan yleisimpiä ajotekniikkaan liittyviä seikkoja.[/message] \nOletko aloittanut maantie- tai maastopyöräilyharrastuksen? Haluatko oppia ajamaan maantiellä ryhmässä tai maastossa vaihtelevissa oloissa sujuvasti? Velo Saimaa järjestää aloittelijoiden viikot 14.-27.5. jolloin on tarjoamme uusille pyöräilyn harrastajille hyviä tilaisuuksia tutustua lajiin\, varusteisiin ja harjoitteluun. Viikolla 20 pidetään maantiepyöräilyn perusteet -kurssi ja viikolla 21 maastopyöräilyn perusteet -kurssi. Katso tarkempi ohjelma ja ilmoittaudu mukaan osoitteessa http://velosaimaa.fi/kurssit-ja-koulutukset/.
URL:https://velosaimaa.fi/tapahtumat-ja-kilpailut/uusien-maastopyorailijoiden-tutustumislenkki/
END:VEVENT
BEGIN:VEVENT
DTSTART;TZID=UTC:20180517T180000
DTEND;TZID=UTC:20180517T200000
DTSTAMP:20260422T132823
CREATED:20180226T054155Z
LAST-MODIFIED:20180514T105900Z
UID:1885-1526580000-1526587200@velosaimaa.fi
SUMMARY:Uusien maantiepyöräilijöiden tutustumislenkki
DESCRIPTION:[message type=”notice”]HUOM: Aloittelijoiden viikon ohjatut tunnit ja harjoitukset on jouduttu perumaan ohjaajien puutteen takia. Olet tervetullut tutustumaan Velo Saimaan viikkolenkeillä seuran toimintaan torstaisin klo 18 ja Sunnuntaisin klo 11 osoitteessa Raviradantie 1. Viikoilla 20 ja 21 pyritään torstailenkin yhteydessä muodostamaan erityisiä aloittelijoiden ryhmiä ko. lenkeillä\, joten voit tulla rohkeasti mukaan! Kurssit saatetaan vielä järjestää kesäkuussa 2018\, mutta viimeistään keväällä 2019.[/message] \nOletko aloittanut maantie- tai maastopyöräilyharrastuksen? Haluatko oppia ajamaan maantiellä ryhmässä tai maastossa vaihtelevissa oloissa sujuvasti? Velo Saimaa järjestää aloittelijoiden viikot 14.-27.5. jolloin on tarjoamme uusille pyöräilyn harrastajille hyviä tilaisuuksia tutustua lajiin\, varusteisiin ja harjoitteluun. Viikolla 20 pidetään maantiepyöräilyn perusteet -kurssi ja viikolla 21 maastopyöräilyn perusteet -kurssi. Katso tarkempi ohjelma ja ilmoittaudu mukaan osoitteessa http://velosaimaa.fi/kurssit-ja-koulutukset/.
URL:https://velosaimaa.fi/tapahtumat-ja-kilpailut/uusien-harrastajien-viikot/
END:VEVENT
BEGIN:VEVENT
DTSTART;VALUE=DATE:20180506
DTEND;VALUE=DATE:20180507
DTSTAMP:20260422T132823
CREATED:20180226T050015Z
LAST-MODIFIED:20180226T050015Z
UID:1877-1525564800-1525651199@velosaimaa.fi
SUMMARY:Mikkelin kevätpyöräily 2018
DESCRIPTION:Koko perheen pyöräilytapahtuma Mikkelin kevätpyöräily järjestetään kansallisen pyöräilyviikon avajaisviikonloppuna sunnuntaina 6. toukokuuta! Valittavissa jälleen eri tasoisia reittejä junnuista aktiivipyöräilijöihin. Seuraa tiedotusta osoitteessa www.velosaimaa.fi\, facebook.com/VeloSaimaa ja seuran uutiskirjeet!
URL:https://velosaimaa.fi/tapahtumat-ja-kilpailut/mikkelin-kevatpyoraily-2018/
END:VEVENT
BEGIN:VEVENT
DTSTART;VALUE=DATE:20180505
DTEND;VALUE=DATE:20180506
DTSTAMP:20260422T132823
CREATED:20180421T050600Z
LAST-MODIFIED:20180421T050600Z
UID:1940-1525478400-1525564799@velosaimaa.fi
SUMMARY:Velo Saimaa Mikkelin torilla
DESCRIPTION:Lauantaina 5.5.2018 järjestetään kansallisen pyöräilyviikon avajaistapahtuma Mikkelin torilla klo 10-12. Paikalla on Velo Saimaan lisäksi Mikkelin kaupungin kävelyn ja pyöräilyn edistämisryhmän jäseniä ja muita toimijoita. Tule tapaamaan meitä ja voita samalla mm. liput Mikkelin kevätpyöräilyyn!
URL:https://velosaimaa.fi/tapahtumat-ja-kilpailut/velo-saimaa-mikkelin-torilla/
END:VEVENT
BEGIN:VEVENT
DTSTART;VALUE=DATE:20180421
DTEND;VALUE=DATE:20180422
DTSTAMP:20260422T132823
CREATED:20180226T044806Z
LAST-MODIFIED:20180421T050346Z
UID:1875-1524268800-1524355199@velosaimaa.fi
SUMMARY:Kevätkokous\, pyöräily ja saunailta
DESCRIPTION:Velo Saimaa ry:n kevätkokous\, tutustumispyöräily (maasto/maantie) sekä saunailta järjestetään lauantaina 21. huhtikuuta. Kevätkokous alkaa klo 13.30 osoitteessa Linnankatu 5 (Linnasauna). Lataa esityslista tästä. Pyöräily starttaa klo 16.30 ja saunailta noin klo 18. \nTilaa Velo Saimaan uutiskirje sähköpostiisi tämän sivun alareunasta\, niin saat uusimmat tiedot heti sähköpostiisi!
URL:https://velosaimaa.fi/tapahtumat-ja-kilpailut/kevatkokous-pyoraily-ja-saunailta/
END:VEVENT
BEGIN:VEVENT
DTSTART;VALUE=DATE:20180328
DTEND;VALUE=DATE:20180329
DTSTAMP:20260422T132823
CREATED:20180226T044506Z
LAST-MODIFIED:20180226T044506Z
UID:1873-1522195200-1522281599@velosaimaa.fi
SUMMARY:Sisäpyöräilyn päätöstunti
DESCRIPTION:Kevätkauden sisäpyöräilytunnit SportForumilla keskiviikkoisin klo 19-20. Kevään ryhmä on täynnä.
URL:https://velosaimaa.fi/tapahtumat-ja-kilpailut/sisapyorailyn-paatostunti/
END:VEVENT
BEGIN:VEVENT
DTSTART;VALUE=DATE:20180321
DTEND;VALUE=DATE:20180322
DTSTAMP:20260422T132823
CREATED:20180226T044402Z
LAST-MODIFIED:20180226T044402Z
UID:1871-1521590400-1521676799@velosaimaa.fi
SUMMARY:Sisäpyöräily
DESCRIPTION:Kevätkauden sisäpyöräilytunnit SportForumilla keskiviikkoisin klo 19-20. Kevään ryhmä on täynnä.
URL:https://velosaimaa.fi/tapahtumat-ja-kilpailut/sisapyoraily-14/
END:VEVENT
BEGIN:VEVENT
DTSTART;VALUE=DATE:20180314
DTEND;VALUE=DATE:20180315
DTSTAMP:20260422T132823
CREATED:20180226T044327Z
LAST-MODIFIED:20180226T044327Z
UID:1869-1520985600-1521071999@velosaimaa.fi
SUMMARY:Sisäpyöräily
DESCRIPTION:Kevätkauden sisäpyöräilytunnit SportForumilla keskiviikkoisin klo 19-20. Kevään ryhmä on täynnä.
URL:https://velosaimaa.fi/tapahtumat-ja-kilpailut/sisapyoraily-13/
END:VEVENT
BEGIN:VEVENT
DTSTART;VALUE=DATE:20180307
DTEND;VALUE=DATE:20180308
DTSTAMP:20260422T132823
CREATED:20180226T044146Z
LAST-MODIFIED:20180226T044146Z
UID:1867-1520380800-1520467199@velosaimaa.fi
SUMMARY:Sisäpyöräily
DESCRIPTION:Kevätkauden sisäpyöräilytunnit SportForumilla keskiviikkoisin klo 19-20. Kevään ryhmä on täynnä.
URL:https://velosaimaa.fi/tapahtumat-ja-kilpailut/sisapyoraily-12/
END:VEVENT
BEGIN:VEVENT
DTSTART;VALUE=DATE:20180228
DTEND;VALUE=DATE:20180301
DTSTAMP:20260422T132823
CREATED:20180226T044111Z
LAST-MODIFIED:20180226T044111Z
UID:1865-1519776000-1519862399@velosaimaa.fi
SUMMARY:Sisäpyöräily
DESCRIPTION:Kevätkauden sisäpyöräilytunnit SportForumilla keskiviikkoisin klo 19-20. Kevään ryhmä on täynnä.
URL:https://velosaimaa.fi/tapahtumat-ja-kilpailut/sisapyoraily-11/
END:VEVENT
BEGIN:VEVENT
DTSTART;TZID=UTC:20180131T190000
DTEND;TZID=UTC:20180131T200000
DTSTAMP:20260422T132823
CREATED:20180110T034316Z
LAST-MODIFIED:20180110T044507Z
UID:1853-1517425200-1517428800@velosaimaa.fi
SUMMARY:Sisäpyöräily
DESCRIPTION:Kevään sisäpyöräilykausi alkaa keskiviikkona 10. tammikuuta. Kevään sisäpyöräilytunnit ovat keskiviikkoisin klo 19-20 SportForumilla ja ne jatkuvat maaliskuun loppuun saakka.
URL:https://velosaimaa.fi/tapahtumat-ja-kilpailut/sisapyoraily-10/
END:VEVENT
BEGIN:VEVENT
DTSTART;TZID=UTC:20180124T190000
DTEND;TZID=UTC:20180124T200000
DTSTAMP:20260422T132823
CREATED:20180110T034238Z
LAST-MODIFIED:20180110T034238Z
UID:1851-1516820400-1516824000@velosaimaa.fi
SUMMARY:Sisäpyöräily
DESCRIPTION:Kevään sisäpyöräilykausi alkaa keskiviikkona 10. tammikuuta. Kevään sisäpyöräilytunnit ovat keskiviikkoisin klo 19-20 SportForumilla ja ne jatkuvat maaliskuun loppuun saakka.
URL:https://velosaimaa.fi/tapahtumat-ja-kilpailut/sisapyoraily-9/
END:VEVENT
BEGIN:VEVENT
DTSTART;TZID=UTC:20180117T190000
DTEND;TZID=UTC:20180117T200000
DTSTAMP:20260422T132823
CREATED:20180110T034040Z
LAST-MODIFIED:20180110T034040Z
UID:1849-1516215600-1516219200@velosaimaa.fi
SUMMARY:Sisäpyöräily
DESCRIPTION:Kevään sisäpyöräilykausi alkaa keskiviikkona 10. tammikuuta. Kevään sisäpyöräilytunnit ovat keskiviikkoisin klo 19-20 SportForumilla ja ne jatkuvat maaliskuun loppuun saakka.
URL:https://velosaimaa.fi/tapahtumat-ja-kilpailut/sisapyoraily-8/
END:VEVENT
BEGIN:VEVENT
DTSTART;TZID=UTC:20180112T190000
DTEND;TZID=UTC:20180112T200000
DTSTAMP:20260422T132823
CREATED:20180110T075931Z
LAST-MODIFIED:20180110T075931Z
UID:1855-1515783600-1515787200@velosaimaa.fi
SUMMARY:Tutustuminen pyöräilyasuihin
DESCRIPTION:Velo Saimaan alkavan kauden ajoasujen alustava graafinen ilme esitellään SportForumilla perjantaina 12.1.2018 klo 19-20. Paikalla ovat sovitusasut\, seuran edustajia ja mallit graafisista ratkaisuista. Tule sovittamaan asuja\, tapaamaan seuran väkeä ja juttelemaan mukavia!
URL:https://velosaimaa.fi/tapahtumat-ja-kilpailut/tutustuminen-pyorailyasuihin/
END:VEVENT
BEGIN:VEVENT
DTSTART;TZID=UTC:20180110T190000
DTEND;TZID=UTC:20180110T200000
DTSTAMP:20260422T132823
CREATED:20171219T130021Z
LAST-MODIFIED:20180110T033944Z
UID:1842-1515610800-1515614400@velosaimaa.fi
SUMMARY:Sisäpyöräily alkaa
DESCRIPTION:Kevään sisäpyöräilykausi alkaa keskiviikkona 10. tammikuuta. Kevään sisäpyöräilytunnit ovat keskiviikkoisin klo 19-20 SportForumilla ja ne jatkuvat maaliskuun loppuun saakka. \n***ryhmä on täynnä**
URL:https://velosaimaa.fi/tapahtumat-ja-kilpailut/sisapyoraily-alkaa-ilmoittaudu/
END:VEVENT
BEGIN:VEVENT
DTSTART;TZID=UTC:20171213T190000
DTEND;TZID=UTC:20171213T200000
DTSTAMP:20260422T132823
CREATED:20171119T104958Z
LAST-MODIFIED:20171119T104958Z
UID:1833-1513191600-1513195200@velosaimaa.fi
SUMMARY:Sisäpyöräily (päätöstunti)
DESCRIPTION:Velo Saimaan sisäpyöräilytunti SportForumilla keskiviikkoisin klo 19.00-20.00. Tunneille on vielä tilaa\, joten lähetä sähköpostia osoitteeseen velosaimaa(a)gmail.com\, jos haluat mukaan! Voit myös ilmoittautua jo kevätkauden sisäpyöräilyyn\, joka alkaa tammikuun puolivälissä ja kestää huhtikuun alkuun. \nSyyskauden viimeinen tunti. Sisäpyöräily jatkuu tammikuun puolivälissä kevätkauden merkeissä. Ilmoittaudu mukaan erikseen!
URL:https://velosaimaa.fi/tapahtumat-ja-kilpailut/sisapyoraily-paatostunti/
END:VEVENT
BEGIN:VEVENT
DTSTART;VALUE=DATE:20171202
DTEND;VALUE=DATE:20171203
DTSTAMP:20260422T132823
CREATED:20171127T110950Z
LAST-MODIFIED:20171127T110950Z
UID:1839-1512172800-1512259199@velosaimaa.fi
SUMMARY:Global Fat-Bike Day 2017 Mikkeli
DESCRIPTION:Velo Saimaa ry järjestää Global Fat-Bike Dayn kunnaksi kaikille avoimen yhteislenkin\, joka starttaa Savilahdenkadun ja Raviradantien risteyksestä 2.12.2017 klo 10.00. Katso lisätiedot osoitteesta https://www.facebook.com/events/545236032495199/ \n 
URL:https://velosaimaa.fi/tapahtumat-ja-kilpailut/global-fat-bike-day-2017-mikkeli/
END:VEVENT
BEGIN:VEVENT
DTSTART;TZID=Europe/Helsinki:20171129T190000
DTEND;TZID=Europe/Helsinki:20171129T200000
DTSTAMP:20260422T132823
CREATED:20171119T104831Z
LAST-MODIFIED:20171119T104831Z
UID:1831-1511982000-1511985600@velosaimaa.fi
SUMMARY:Sisäpyöräily
DESCRIPTION:Velo Saimaan sisäpyöräilytunti SportForumilla keskiviikkoisin klo 19.00-20.00. Tunneille on vielä tilaa\, joten lähetä sähköpostia osoitteeseen velosaimaa(a)gmail.com\, jos haluat mukaan! Voit myös ilmoittautua jo kevätkauden sisäpyöräilyyn\, joka alkaa tammikuun puolivälissä ja kestää huhtikuun alkuun.
URL:https://velosaimaa.fi/tapahtumat-ja-kilpailut/sisapyoraily-7/
END:VEVENT
BEGIN:VEVENT
DTSTART;TZID=Europe/Helsinki:20171122T190000
DTEND;TZID=Europe/Helsinki:20171122T200000
DTSTAMP:20260422T132823
CREATED:20171119T104749Z
LAST-MODIFIED:20171119T104749Z
UID:1829-1511377200-1511380800@velosaimaa.fi
SUMMARY:Sisäpyöräily
DESCRIPTION:Velo Saimaan sisäpyöräilytunti SportForumilla keskiviikkoisin klo 19.00-20.00. Tunneille on vielä tilaa\, joten lähetä sähköpostia osoitteeseen velosaimaa(a)gmail.com\, jos haluat mukaan! Voit myös ilmoittautua jo kevätkauden sisäpyöräilyyn\, joka alkaa tammikuun puolivälissä ja kestää huhtikuun alkuun.
URL:https://velosaimaa.fi/tapahtumat-ja-kilpailut/sisapyoraily-6/
END:VEVENT
BEGIN:VEVENT
DTSTART;TZID=UTC:20171122T160000
DTEND;TZID=UTC:20171122T180000
DTSTAMP:20260422T132823
CREATED:20171119T105308Z
LAST-MODIFIED:20171119T145652Z
UID:1835-1511366400-1511373600@velosaimaa.fi
SUMMARY:Mikkelin #pyöräilytalvi-tapahtuma
DESCRIPTION:#Pyöräilytalvi-kampanja muistuttaa 20.–26.11. kaikkia siitä\, ettei pyöräily talvellakaan ole mitenkään erikoista tai vaativaa. Kuten ei ole talvella käveleminenkään. Päinvastoin – pyöräily on nopein ja hauskin tapa liikkua myös lämpötilan pudottua ja päivien pimennyttyä. \nSuomen ilmastoon tottunut ihminen ei tarvitse erityisosaamista pukeutuakseen talvella. Eikä #pyöräilytalvi vaadi muuta. Normaali talvipukeutuminen riittää loistavasti. Jatka pyöräilyä läpi talven\, ja pääset nauttimaan ulkoilmasta\, hyvästä olosta sekä liikennemuodosta vailla vertaa. \n#Pyöräilytalvi-kampanja painottaa talvipyöräilyn mutkattomuutta ja kannustaa ihmisiä kulkemaan pyörillä ympäri vuoden. Samalla kampanja tarjoaa vinkkejä\, joilla ottaa talvella pyöräilystä ilo irti. Ei siis monimutkaisteta asioita. Jatketaan polkemista! \nKampanjan puitteissa Velo Saimaa ry jakaa valottomille pyöräilijöille valoja useissa eri pisteissä Mikkelissä keskiviikkona 22.11.2017 klo 16-18. Seuraa tapahtumaa Facebookissa!
URL:https://velosaimaa.fi/tapahtumat-ja-kilpailut/mikkelin-pyorailytalvi-tapahtuma/
END:VEVENT
BEGIN:VEVENT
DTSTART;TZID=UTC:20171108T193000
DTEND;TZID=UTC:20171108T203000
DTSTAMP:20260422T132823
CREATED:20171007T153645Z
LAST-MODIFIED:20171007T153645Z
UID:1817-1510169400-1510173000@velosaimaa.fi
SUMMARY:Sisäpyöräily
DESCRIPTION:Velo Saimaan sisäpyöräilytunti SportForumilla keskiviikkoisin klo 19.30-20.30. Tunneille on vielä tilaa\, joten lähetä sähköpostia osoitteeseen velosaimaa(a)gmail.com\, jos haluat mukaan!
URL:https://velosaimaa.fi/tapahtumat-ja-kilpailut/sisapyoraily-5/
END:VEVENT
BEGIN:VEVENT
DTSTART;TZID=UTC:20171104T130000
DTEND;TZID=UTC:20171104T233000
DTSTAMP:20260422T132823
CREATED:20171007T153938Z
LAST-MODIFIED:20171103T170222Z
UID:1821-1509800400-1509838200@velosaimaa.fi
SUMMARY:Syyskokous ja tutustumispyöräily
DESCRIPTION:Varaa kalenterista lauantai 4.11.\, sillä tuolloin järjestetään Velo Saimaan syyskokous ja pyöräily+illanvietto. Paikaksi on valikoitunut Mikkelin Golfin tukikohta osoitteessa Lentokentänkatu 2. Kokouksen jälkeen ajetaan eri ryhmissä lenkkiä maastossa ja tietä pitkin ja illalla jaetaan Mikkelin MTB-cupin palkinnot ja rentoudutaan saunan ja yhdessäolon merkeissä. Lisätietoja ja ilmoittautuminen lokakuun jälkipuolella. \nKokouskutsu
URL:https://velosaimaa.fi/tapahtumat-ja-kilpailut/syyskokous-ja-tutustumispyoraily/
END:VEVENT
BEGIN:VEVENT
DTSTART;TZID=UTC:20171101T193000
DTEND;TZID=UTC:20171101T203000
DTSTAMP:20260422T132823
CREATED:20171007T153614Z
LAST-MODIFIED:20171007T153614Z
UID:1815-1509564600-1509568200@velosaimaa.fi
SUMMARY:Sisäpyöräily
DESCRIPTION:Velo Saimaan sisäpyöräilytunti SportForumilla keskiviikkoisin klo 19.30-20.30. Tunneille on vielä tilaa\, joten lähetä sähköpostia osoitteeseen velosaimaa(a)gmail.com\, jos haluat mukaan!
URL:https://velosaimaa.fi/tapahtumat-ja-kilpailut/sisapyoraily-4/
END:VEVENT
BEGIN:VEVENT
DTSTART;TZID=UTC:20171025T193000
DTEND;TZID=UTC:20171025T203000
DTSTAMP:20260422T132823
CREATED:20171007T153212Z
LAST-MODIFIED:20171007T153212Z
UID:1813-1508959800-1508963400@velosaimaa.fi
SUMMARY:Sisäpyöräily
DESCRIPTION:Velo Saimaan sisäpyöräilytunti SportForumilla keskiviikkoisin klo 19.30-20.30. Tunneille on vielä tilaa\, joten lähetä sähköpostia osoitteeseen velosaimaa(a)gmail.com\, jos haluat mukaan!
URL:https://velosaimaa.fi/tapahtumat-ja-kilpailut/sisapyoraily-3/
END:VEVENT
BEGIN:VEVENT
DTSTART;TZID=UTC:20171021T090000
DTEND;TZID=UTC:20171021T180000
DTSTAMP:20260422T132823
CREATED:20171007T153808Z
LAST-MODIFIED:20171007T153808Z
UID:1819-1508576400-1508608800@velosaimaa.fi
SUMMARY:MTB-retki Pieksämäellä
DESCRIPTION:Syksyn MTB-retkiajo ajetaan Pieksämäellä \nLokakuussa Velo Saimaa järjestää maastopyöräilypäivän uusilla Pieksämäen Vedenjakaja-reitistön poluilla. Retkelle voivat ilmoittautua mukaan sekä seuran jäsenet että seuraan kuulumattomat asiasta kiinnostuneet. Paikan päällä on tarkoitus ajaa kahdessa eri tasoryhmässä ja päivän päätteeksi lämmitetään sauna ja paistetaan makkarat kodalla Salvosen rannalla. \nSeura tarjoaa saunan ja eväät paikan päällä\, kuljetuksista kerätään pieni maksu kuljettajille. Ilmoittaudu mukaan oheisesta linkistä viimeistään 19.10.! https://goo.gl/forms/lKtp1D8tCmrMUjYY2
URL:https://velosaimaa.fi/tapahtumat-ja-kilpailut/mtb-retki-pieksamaella/
END:VEVENT
BEGIN:VEVENT
DTSTART;TZID=UTC:20171018T193000
DTEND;TZID=UTC:20171018T203000
DTSTAMP:20260422T132823
CREATED:20171007T153145Z
LAST-MODIFIED:20171007T153145Z
UID:1811-1508355000-1508358600@velosaimaa.fi
SUMMARY:Sisäpyöräily
DESCRIPTION:Velo Saimaan sisäpyöräilytunti SportForumilla keskiviikkoisin klo 19.30-20.30. Tunneille on vielä tilaa\, joten lähetä sähköpostia osoitteeseen velosaimaa(a)gmail.com\, jos haluat mukaan!
URL:https://velosaimaa.fi/tapahtumat-ja-kilpailut/sisapyoraily-2/
END:VEVENT
END:VCALENDAR